BEGIN:VCALENDAR
VERSION:2.0
PRODID:-//Contemporary Caribbean Conversations - ECPv6.15.20//NONSGML v1.0//EN
CALSCALE:GREGORIAN
METHOD:PUBLISH
X-ORIGINAL-URL:https://www.caribbeanconvos.com
X-WR-CALDESC:Events for Contemporary Caribbean Conversations
REFRESH-INTERVAL;VALUE=DURATION:PT1H
X-Robots-Tag:noindex
X-PUBLISHED-TTL:PT1H
BEGIN:VTIMEZONE
TZID:America/Barbados
BEGIN:STANDARD
TZOFFSETFROM:-0400
TZOFFSETTO:-0400
TZNAME:AST
DTSTART:20250101T000000
END:STANDARD
END:VTIMEZONE
BEGIN:VEVENT
DTSTART;TZID=America/Barbados:20260425T180000
DTEND;TZID=America/Barbados:20260425T200000
DTSTAMP:20260425T094731
CREATED:20260424T180028Z
LAST-MODIFIED:20260424T180028Z
UID:4092-1777140000-1777147200@www.caribbeanconvos.com
SUMMARY:Melange Reloaded : Opening Reception
DESCRIPTION:On Saturday\, April 25th\, we open the gallery doors to something extraordinary!Join us at the Queen’s Park Gallery for the opening of Mélange Reloaded: Orishas\, Fantasies & Folktales\, a solo art exhibition by Lieutenant Commander John W. F. Walcott\, E.D.Under the distinguished patronage of His Excellency Lieutenant Colonel the Most Honourable Jeffrey Bostic\, F.B.\, M.V.O.\, President of Barbados\, this exhibition invites you to see the unseen\, and feel what cannot easily be spoken.
URL:https://www.caribbeanconvos.com/event/melange-reloaded-opening-reception/
LOCATION:The Queen’s Park Gallery\, Queen's Park\, Constitution Rd\, Bridgetown\, St.Michael\, Barbados
CATEGORIES:Opening reception
ATTACH;FMTTYPE=image/png:https://www.caribbeanconvos.com/wp-content/uploads/2026/04/670023669_18579002065034816_5629392123688136797_n.png
END:VEVENT
BEGIN:VEVENT
DTSTART;TZID=America/Barbados:20260514T180000
DTEND;TZID=America/Barbados:20260514T200000
DTSTAMP:20260425T094731
CREATED:20260420T190907Z
LAST-MODIFIED:20260420T190907Z
UID:4083-1778781600-1778788800@www.caribbeanconvos.com
SUMMARY:Hidden In Plain Sight: Opening Reception
DESCRIPTION:
URL:https://www.caribbeanconvos.com/event/hidden-in-plain-sight-opening-reception/
LOCATION:Barbados Community College: Morningside Gallery\, Barbados Community College Howells Road\, Bridgetown\, St. Michael\, Barbados
CATEGORIES:Opening reception
ATTACH;FMTTYPE=image/jpeg:https://www.caribbeanconvos.com/wp-content/uploads/2026/04/672686726_10164863372787387_5275492947757208655_n.jpg
END:VEVENT
END:VCALENDAR