BEGIN:VCALENDAR
VERSION:2.0
PRODID:-//Contemporary Caribbean Conversations - ECPv6.15.20//NONSGML v1.0//EN
CALSCALE:GREGORIAN
METHOD:PUBLISH
X-ORIGINAL-URL:https://www.caribbeanconvos.com
X-WR-CALDESC:Events for Contemporary Caribbean Conversations
REFRESH-INTERVAL;VALUE=DURATION:PT1H
X-Robots-Tag:noindex
X-PUBLISHED-TTL:PT1H
BEGIN:VTIMEZONE
TZID:America/Barbados
BEGIN:STANDARD
TZOFFSETFROM:-0400
TZOFFSETTO:-0400
TZNAME:AST
DTSTART:20240101T000000
END:STANDARD
END:VTIMEZONE
BEGIN:VEVENT
DTSTART;TZID=America/Barbados:20260415T183000
DTEND;TZID=America/Barbados:20260415T203000
DTSTAMP:20260422T075155
CREATED:20260405T223017Z
LAST-MODIFIED:20260405T223017Z
UID:4051-1776277800-1776285000@www.caribbeanconvos.com
SUMMARY:Black and White Moments- Opening Reception
DESCRIPTION:The Barbados Photographic Society presents its upcoming exhibition\, Black and White Moments\, at the Caribbean Brushstrokes Gallery.
URL:https://www.caribbeanconvos.com/event/black-and-white-moments-opening-reception/
LOCATION:Caribbean Brushstrokes\, Caribbean Brushstrokes\, Building #1 Pelican Village\, Bridgetown\, St. Michael\, Barbados
CATEGORIES:Opening reception
ATTACH;FMTTYPE=image/jpeg:https://www.caribbeanconvos.com/wp-content/uploads/2026/04/662666475_10164792555952387_3834315649494353616_n.jpg
END:VEVENT
BEGIN:VEVENT
DTSTART;TZID=America/Barbados:20260411T163000
DTEND;TZID=America/Barbados:20260411T180000
DTSTAMP:20260422T075155
CREATED:20260325T042030Z
LAST-MODIFIED:20260325T042030Z
UID:3992-1775925000-1775930400@www.caribbeanconvos.com
SUMMARY:The Shape of Feeling- Opening Reception
DESCRIPTION:What if feelings were visible? What if they had a shape?\n\n\n\nOn April 11th\, 2026\, the Gallery of Caribbean Art invites you to experience an evening of wonder and explore what feeling means and looks like through the creative lens of 4 young women\, determined to share joy and amazement through art.\n\n\nThis exhibition\, featuring young artists @alishasmith.thecolouristart\, @ariannaaleahart\, Jamila Greaves and @kingkesia.art\, will reveal how emotion can take shape\, beyond the frame of words – becoming something seen\, felt and experienced.\n\n\nImmerse yourself in an experience where colours speak\, forms evolve and feelings become tangible.\n\n\n\nDiscover The Shape of Feeling\, launching next month\, here at the Gallery of Caribbean Art!\n\n\nExhibition launches with an Opening reception on Saturday\, April 11th\, 2026\, from 4:30 PM – 6:00 PM. The show will run through to the 2nd of May\, 2026.\n\n\nWe look forward to seeing you!
URL:https://www.caribbeanconvos.com/event/the-shape-of-feeling-opening-reception/
LOCATION:Gallery of Caribbean Art\, Gallery of Caribbean Art\, Queen's Street\, Speightstown\, St.Peter\, Barbados
CATEGORIES:Opening reception
ATTACH;FMTTYPE=image/jpeg:https://www.caribbeanconvos.com/wp-content/uploads/2026/03/657140441_10164755895982387_1541108925091710362_n.jpg
END:VEVENT
BEGIN:VEVENT
DTSTART;TZID=America/Barbados:20260411T140000
DTEND;TZID=America/Barbados:20260411T170000
DTSTAMP:20260422T075155
CREATED:20260311T185730Z
LAST-MODIFIED:20260311T185730Z
UID:3878-1775916000-1775926800@www.caribbeanconvos.com
SUMMARY:Island Vibes Art Exhibition - Opening Reception
DESCRIPTION:
URL:https://www.caribbeanconvos.com/event/island-vibes-art-exhibition-opening-reception/
LOCATION:Barbados Arts Council\, Barbados Arts Council Gallery\, Earthworks Pottery Complex\, Edgehill Heights 2\, Bridgetown\, Saint Thomas\, Barbados
CATEGORIES:Opening reception
ATTACH;FMTTYPE=image/jpeg:https://www.caribbeanconvos.com/wp-content/uploads/2026/03/BAC-IslandVibes-March2026.jpg
END:VEVENT
BEGIN:VEVENT
DTSTART;TZID=America/Barbados:20260320T180000
DTEND;TZID=America/Barbados:20260320T200000
DTSTAMP:20260422T075155
CREATED:20260316T052559Z
LAST-MODIFIED:20260316T052559Z
UID:3946-1774029600-1774036800@www.caribbeanconvos.com
SUMMARY:Relations- The Art Exhibition- Opening Reception
DESCRIPTION:
URL:https://www.caribbeanconvos.com/event/relations-the-art-exhibition-opening-reception/
LOCATION:The Embassy of Argentina\, The Embassy of Argentina\, Lucerne Building\, Christ Church\, Bridgetown\, Barbados
CATEGORIES:Opening reception
ATTACH;FMTTYPE=image/jpeg:https://www.caribbeanconvos.com/wp-content/uploads/2026/03/651791580_10164699839307387_5151319544014221648_n.jpg
END:VEVENT
BEGIN:VEVENT
DTSTART;TZID=America/Barbados:20260311T183000
DTEND;TZID=America/Barbados:20260311T203000
DTSTAMP:20260422T075155
CREATED:20260305T015606Z
LAST-MODIFIED:20260305T015606Z
UID:3852-1773253800-1773261000@www.caribbeanconvos.com
SUMMARY:Reimagined II: Under the Galvanize Roof - Opening Reception
DESCRIPTION:Reimagined II: Under the Galvanize Roof brings together three fearless Barbadian women — Akilah Watts\, Alanis Forde\, and Anna Gibson — in an exhibition that pulses with identity\, memory\, vulnerability\, resilience\, and raw creative power.\n\n\nBeneath the iconic galvanized roof — that symbol of Caribbean shelter\, survival\, and adaptation — these artists reimagine what it means to exist\, to dream\, to create\, and to become.\n\n\nEvocative portraits.\n\n\nLayered\, expressive figures.\n\n\nNostalgia woven with strength.\n\n\nBarbadian womanhood — fluid\, complex\, unapologetic.\n\n\nA conversation. A transformation. A redefinition.\n\n\n March 11th\n 6:30 PM – 8:30 PM\n Caribbean Brushstrokes\, Building 1\, Pelican Village\, Bridgetown\n\n\nStand beneath the roof. Witness the reimagining.
URL:https://www.caribbeanconvos.com/event/reimagined-ii-under-the-galvanize-roof-opening-reception/
LOCATION:Caribbean Brushstrokes\, Caribbean Brushstrokes\, Building #1 Pelican Village\, Bridgetown\, St. Michael\, Barbados
CATEGORIES:Opening reception
ATTACH;FMTTYPE=image/jpeg:https://www.caribbeanconvos.com/wp-content/uploads/2026/03/641531729_122167665998617862_2777673291293516206_n.jpg
END:VEVENT
BEGIN:VEVENT
DTSTART;TZID=America/Barbados:20260308T153000
DTEND;TZID=America/Barbados:20260308T183000
DTSTAMP:20260422T075155
CREATED:20260220T033225Z
LAST-MODIFIED:20260220T033225Z
UID:3818-1772983800-1772994600@www.caribbeanconvos.com
SUMMARY:Echo - Opening Reception
DESCRIPTION:OPENING RECEPTION\, Sunday March 8th\, 3:30pm to 6:30pm\n\n\n\n\n\nARTISTS\n\n\nCatharine Cummins\n\n\nHeather-Dawn Scott\n\n\nHeidi Berger\n\n\nJulia Seymour\n\n\nJuliana Inniss\n\n\nMelanie Blomgren\n\n\nOneka Small\n\n\nSheri Ann Marie Nicholls\n\n\nSian Pampellonne\n\n\nSonia Tuleja\n\n\nTracey Williams
URL:https://www.caribbeanconvos.com/event/echo-opening-reception/
LOCATION:Gallery of Caribbean Art\, Gallery of Caribbean Art\, Queen's Street\, Speightstown\, St.Peter\, Barbados
CATEGORIES:Opening reception
ATTACH;FMTTYPE=image/jpeg:https://www.caribbeanconvos.com/wp-content/uploads/2026/02/637149784_10164565730147387_2317061560200109627_n.jpg
END:VEVENT
BEGIN:VEVENT
DTSTART;TZID=America/Barbados:20260307T180000
DTEND;TZID=America/Barbados:20260307T200000
DTSTAMP:20260422T075156
CREATED:20260305T014926Z
LAST-MODIFIED:20260305T014926Z
UID:3843-1772906400-1772913600@www.caribbeanconvos.com
SUMMARY:Changes- Opening Reception
DESCRIPTION:This International Women’s Day 2026\, experience ‘𝗖𝗵𝗮𝗻𝗴𝗲𝘀’\, an exhibition that examines transformation through bold and reflective visual storytelling.The opening reception is set for Saturday\, March 7\, from 6 PM at the Queen’s Park Gallery\, and continues until April 18\, with a special Artist Talk on Saturday\, March 28.Be part of the conversation and the continued celebration of women’s voices in the arts 
URL:https://www.caribbeanconvos.com/event/changes-opening-reception/
LOCATION:The Queen’s Park Gallery\, Queen's Park\, Constitution Rd\, Bridgetown\, St.Michael\, Barbados
CATEGORIES:Opening reception
ATTACH;FMTTYPE=image/jpeg:https://www.caribbeanconvos.com/wp-content/uploads/2026/03/646794830_10164626790632387_8418991197073738273_n.jpg
END:VEVENT
BEGIN:VEVENT
DTSTART;TZID=America/Barbados:20260208T153000
DTEND;TZID=America/Barbados:20260208T173000
DTSTAMP:20260422T075156
CREATED:20260126T140327Z
LAST-MODIFIED:20260126T140327Z
UID:3808-1770564600-1770571800@www.caribbeanconvos.com
SUMMARY:Contemporary Male Artist- Opening Reception
DESCRIPTION:On Sunday\, 8th of February\, 2026\, we cordially invite you to the launch of our newest exhibition\, “Contemporary Male Artist”. Opening at 3:30 PM to 5:30 PM\, this exciting exhibition brings together 9 local male artists of incredible calibre – Ahmad Rasheed Boodhoo\, Clairmonte Mapp\, Denzil Mann\, Dr. Adrian Richards\, Everick Lynton\, Glenroy Jordan\, Mario Holder\, Neville Legall and Virgil Broodhagen – each who brings their own unique and iconic style into the fray.
URL:https://www.caribbeanconvos.com/event/contemporary-male-artist-opening-reception/
LOCATION:Gallery of Caribbean Art\, Gallery of Caribbean Art\, Queen's Street\, Speightstown\, St.Peter\, Barbados
CATEGORIES:Opening reception
ATTACH;FMTTYPE=image/jpeg:https://www.caribbeanconvos.com/wp-content/uploads/2026/01/Contemporary-Male-Artist-Feburary-2026-Exhibition-Invitation-Gallery-of-Caribbean-Art.jpg
END:VEVENT
BEGIN:VEVENT
DTSTART;TZID=America/Barbados:20260206T180000
DTEND;TZID=America/Barbados:20260206T200000
DTSTAMP:20260422T075156
CREATED:20260126T112058Z
LAST-MODIFIED:20260126T112058Z
UID:3801-1770400800-1770408000@www.caribbeanconvos.com
SUMMARY:Epiphany: A Solo Exhibition by Safia Stoute- Opening Reception
DESCRIPTION:
URL:https://www.caribbeanconvos.com/event/epiphany-a-solo-exhibition-by-safia-stoute-opening-reception/
LOCATION:The Frame and Art Co.\, The Frame and Art Co. Ltd\, Millhouse\, Warrens\, St.Michael\, Barbados
CATEGORIES:Opening reception
ATTACH;FMTTYPE=image/jpeg:https://www.caribbeanconvos.com/wp-content/uploads/2026/01/619673771_10164439809897387_9035018737763594054_n.jpg
END:VEVENT
BEGIN:VEVENT
DTSTART;TZID=America/Barbados:20260121T170000
DTEND;TZID=America/Barbados:20260121T190000
DTSTAMP:20260422T075156
CREATED:20260111T183032Z
LAST-MODIFIED:20260111T183032Z
UID:3760-1769014800-1769022000@www.caribbeanconvos.com
SUMMARY:BIM The Beautiful- Opening Reception
DESCRIPTION:BIM: The Beautiful  \nA celebration of our island—told through the eyes\, hands\, and hearts of Caribbean artists.This powerful group exhibition at Caribbean Brushstrokes invites you to experience BIM as artists see it: our seas\, our spirit\, our stories\, and our shared sense of place.Each work is a tribute to Barbados—its beauty\, rhythm\, memory\, and movement—captured through bold expression and thoughtful craft. It’s a show that speaks to art lovers and collectors who value connection\, culture\, and work that honours where we come from. Exhibition: Jan 21 – Feb 14 Opening Reception: Jan 21 | 5–7 PM Artists Talk: Jan 31 | 4 PM Caribbean Brushstrokes\, Building 1\, Pelican Island\, BridgetownCome celebrate our beautiful island—as only artists can show it.
URL:https://www.caribbeanconvos.com/event/bim-the-beautiful-opening-reception/
LOCATION:Caribbean Brushstrokes\, Caribbean Brushstrokes\, Building #1 Pelican Village\, Bridgetown\, St. Michael\, Barbados
CATEGORIES:Opening reception
ATTACH;FMTTYPE=image/jpeg:https://www.caribbeanconvos.com/wp-content/uploads/2026/01/613552703_122163522386617862_2056745235452892043_n.jpg
END:VEVENT
BEGIN:VEVENT
DTSTART;TZID=America/Barbados:20260111T153000
DTEND;TZID=America/Barbados:20260111T183000
DTSTAMP:20260422T075156
CREATED:20260105T193659Z
LAST-MODIFIED:20260105T193659Z
UID:3739-1768145400-1768156200@www.caribbeanconvos.com
SUMMARY:Boats\, Goats & Dancing Ladies: A Caribbean Cacophony - Opening Reception
DESCRIPTION:Get ready to set sail for adventure! On Sunday\, 11th of January\, 2026\, we cordially invite you to experience Boats\, Goats and Dancing Ladies: A Caribbean Cacophony by Susan Mains. A solo exhibition of epic proportions\, Susan’s art will take you on a Caribbean journey spanning churning oceans and vibrant lands\, full of racing sailboats\, joyous rhythms and of course\, cheeky goat friends! With so much to see\, you’re not going to want to miss this!\n\nExhibition opens with a reception on Sunday\, January 11th\, 2026\, from 3:30 PM to 6:30 PM
URL:https://www.caribbeanconvos.com/event/boats-goats-dancing-ladies-a-caribbean-cacophony-opening-reception/
LOCATION:Gallery of Caribbean Art\, Gallery of Caribbean Art\, Queen's Street\, Speightstown\, St.Peter\, Barbados
CATEGORIES:Opening reception
ATTACH;FMTTYPE=image/jpeg:https://www.caribbeanconvos.com/wp-content/uploads/2026/01/600273678_10164268589572387_1070779242814699061_n.jpg
END:VEVENT
BEGIN:VEVENT
DTSTART;TZID=America/Barbados:20260110T180000
DTEND;TZID=America/Barbados:20260110T200000
DTSTAMP:20260422T075156
CREATED:20260105T192530Z
LAST-MODIFIED:20260105T192557Z
UID:3731-1768068000-1768075200@www.caribbeanconvos.com
SUMMARY:Bajan & Friends - Opening Reception
DESCRIPTION:An Exhibition of Photographic Images of Barbados. \n 
URL:https://www.caribbeanconvos.com/event/bajan-friends-opening-reception/
LOCATION:The Queen’s Park Gallery\, Queen's Park\, Constitution Rd\, Bridgetown\, St.Michael\, Barbados
CATEGORIES:Opening reception
ATTACH;FMTTYPE=image/jpeg:https://www.caribbeanconvos.com/wp-content/uploads/2026/01/IMG-20260105-WA0001.jpg
END:VEVENT
BEGIN:VEVENT
DTSTART;TZID=America/Barbados:20251213T153000
DTEND;TZID=America/Barbados:20251213T183000
DTSTAMP:20260422T075156
CREATED:20251111T214817Z
LAST-MODIFIED:20251111T214817Z
UID:3547-1765639800-1765650600@www.caribbeanconvos.com
SUMMARY:Creative Expressions- Opening Reception
DESCRIPTION:
URL:https://www.caribbeanconvos.com/event/creative-expressions-opening-reception/
LOCATION:Gallery of Caribbean Art\, Gallery of Caribbean Art\, Queen's Street\, Speightstown\, St.Peter\, Barbados
CATEGORIES:Opening reception
ATTACH;FMTTYPE=image/jpeg:https://www.caribbeanconvos.com/wp-content/uploads/2025/11/IMG-20251111-WA0001.jpg
END:VEVENT
BEGIN:VEVENT
DTSTART;TZID=America/Barbados:20251212T173000
DTEND;TZID=America/Barbados:20251212T200000
DTSTAMP:20260422T075156
CREATED:20251201T220032Z
LAST-MODIFIED:20251201T220032Z
UID:3631-1765560600-1765569600@www.caribbeanconvos.com
SUMMARY:Anonymous Art Show for Charity - Opening Night
DESCRIPTION:The 11th Annual Anonymous Art Show for Charity opens on Friday\, December 12\, 2025.Proceeds from this year’s show will be donated to the Aunty Olga Memorial School Aid Programme by Variety – the Children’s Charity. The programme helps families in need by supplying school uniforms and basic school essentials.We look forward to seeing you at the opening! For more information\, call 271-6509 or emailinfo@frameartco.com.
URL:https://www.caribbeanconvos.com/event/anonymous-art-show-for-charity-opening-night/
LOCATION:The Frame and Art Co.\, The Frame and Art Co. Ltd\, Millhouse\, Warrens\, St.Michael\, Barbados
CATEGORIES:Opening reception
ATTACH;FMTTYPE=image/jpeg:https://www.caribbeanconvos.com/wp-content/uploads/2025/12/590415177_18539026207026318_1036091710636960179_n.jpg
END:VEVENT
BEGIN:VEVENT
DTSTART;TZID=America/Barbados:20251203T183000
DTEND;TZID=America/Barbados:20251203T203000
DTSTAMP:20260422T075156
CREATED:20251201T214957Z
LAST-MODIFIED:20251201T214957Z
UID:3629-1764786600-1764793800@www.caribbeanconvos.com
SUMMARY:Conjuring- Opening Reception
DESCRIPTION:✨ Caribbean Brushstrokes Presents: Conjuring ✨ \nOn December 3rd\, two formidable creative forces — Ras Akyem-I Ramsay and Shawn Peters — open a doorway into a space where memory\, meaning\, and mysticism meet.\nConjuring is a gathering of energies: raw\, reflective\, spiritual\, and deeply Caribbean. Together\, these artists shape an experience that invites you to look beyond the surface and feel the quiet power of what cannot always be seen.\nThis special opening night will feature remarks by acclaimed artist Kenwyn Crichlow\, setting the tone for an evening of thought\, insight\, and artistic elevation. \nJoin us on Wednesday\, December 3rd\, 2025 — 6:30 PM to 8:30 PM\, upstairs in Building 1 at Pelican Island.\nCome witness the alchemy. Come be part of the gathering.
URL:https://www.caribbeanconvos.com/event/conjuring-opening-reception/
LOCATION:Caribbean Brushstrokes\, Caribbean Brushstrokes\, Building #1 Pelican Village\, Bridgetown\, St. Michael\, Barbados
CATEGORIES:Opening reception
ATTACH;FMTTYPE=image/jpeg:https://www.caribbeanconvos.com/wp-content/uploads/2025/12/WhatsApp-Image-2025-12-01-at-17.43.46.jpeg
END:VEVENT
BEGIN:VEVENT
DTSTART;TZID=America/Barbados:20251122T140000
DTEND;TZID=America/Barbados:20251122T160000
DTSTAMP:20260422T075156
CREATED:20251120T175934Z
LAST-MODIFIED:20251120T180133Z
UID:3611-1763820000-1763827200@www.caribbeanconvos.com
SUMMARY:Bajan Essence- Opening Reception
DESCRIPTION:Opening on 22nd November 2025\, Bajan Essence at the Barbados Arts Council presents a vibrant exhibition of paintings and photographs that capture the soul and identity of Barbadian life. \nShowcasing both emerging and established artists\, the exhibition celebrates the island’s warmth\, resilience\, and sensory richness. Hosted at the Barbados Arts Council Art Gallery\, it runs until 30th December 2025.
URL:https://www.caribbeanconvos.com/event/bajan-essence-clone-opening-reception/
LOCATION:Barbados Arts Council\, Barbados Arts Council Gallery\, Earthworks Pottery Complex\, Edgehill Heights 2\, Bridgetown\, Saint Thomas\, Barbados
CATEGORIES:Opening reception
ATTACH;FMTTYPE=image/jpeg:https://www.caribbeanconvos.com/wp-content/uploads/2025/11/BAC.jpg
END:VEVENT
BEGIN:VEVENT
DTSTART;TZID=America/Barbados:20251114T183000
DTEND;TZID=America/Barbados:20251114T203000
DTSTAMP:20260422T075156
CREATED:20251111T220025Z
LAST-MODIFIED:20251111T221237Z
UID:3558-1763145000-1763152200@www.caribbeanconvos.com
SUMMARY:Free Indeed Art Show - Opening reception
DESCRIPTION:A celebration of freedom and faith through art.
URL:https://www.caribbeanconvos.com/event/free-indeed-art-show-clone-opening-reception/
LOCATION:Inspirational Fine Arts Gallery\, Inspirational fine arts Gallery #49 Sugar Cane Mall\, Roebuck Street\, Bridgetown\, St\, Michael
CATEGORIES:Opening reception
ATTACH;FMTTYPE=image/jpeg:https://www.caribbeanconvos.com/wp-content/uploads/2025/11/IMG-20251110-WA0019.jpg
END:VEVENT
END:VCALENDAR