BEGIN:VCALENDAR
VERSION:2.0
PRODID:-//Contemporary Caribbean Conversations - ECPv6.15.20//NONSGML v1.0//EN
CALSCALE:GREGORIAN
METHOD:PUBLISH
X-WR-CALNAME:Contemporary Caribbean Conversations
X-ORIGINAL-URL:https://www.caribbeanconvos.com
X-WR-CALDESC:Events for Contemporary Caribbean Conversations
REFRESH-INTERVAL;VALUE=DURATION:PT1H
X-Robots-Tag:noindex
X-PUBLISHED-TTL:PT1H
BEGIN:VTIMEZONE
TZID:America/Barbados
BEGIN:STANDARD
TZOFFSETFROM:-0400
TZOFFSETTO:-0400
TZNAME:AST
DTSTART:20250101T000000
END:STANDARD
END:VTIMEZONE
BEGIN:VEVENT
DTSTART;TZID=America/Barbados:20260111T153000
DTEND;TZID=America/Barbados:20260111T183000
DTSTAMP:20260422T180925
CREATED:20260105T193659Z
LAST-MODIFIED:20260105T193659Z
UID:3739-1768145400-1768156200@www.caribbeanconvos.com
SUMMARY:Boats\, Goats & Dancing Ladies: A Caribbean Cacophony - Opening Reception
DESCRIPTION:Get ready to set sail for adventure! On Sunday\, 11th of January\, 2026\, we cordially invite you to experience Boats\, Goats and Dancing Ladies: A Caribbean Cacophony by Susan Mains. A solo exhibition of epic proportions\, Susan’s art will take you on a Caribbean journey spanning churning oceans and vibrant lands\, full of racing sailboats\, joyous rhythms and of course\, cheeky goat friends! With so much to see\, you’re not going to want to miss this!\n\nExhibition opens with a reception on Sunday\, January 11th\, 2026\, from 3:30 PM to 6:30 PM
URL:https://www.caribbeanconvos.com/event/boats-goats-dancing-ladies-a-caribbean-cacophony-opening-reception/
LOCATION:Gallery of Caribbean Art\, Gallery of Caribbean Art\, Queen's Street\, Speightstown\, St.Peter\, Barbados
CATEGORIES:Opening reception
ATTACH;FMTTYPE=image/jpeg:https://www.caribbeanconvos.com/wp-content/uploads/2026/01/600273678_10164268589572387_1070779242814699061_n.jpg
END:VEVENT
END:VCALENDAR